BEGIN:VCALENDAR
VERSION:2.0
PRODID:Spatie calendar-links
BEGIN:VEVENT
UID:c4d95c26d595a1ef1e87466285fc54a9
SUMMARY:"ROLLY'S RALLY"
DTSTAMP;TZID=America/Los_Angeles:20211016T130000
DTSTART;TZID=America/Los_Angeles:20211016T130000
DTEND;TZID=America/Los_Angeles:20211016T160000
LOCATION:888 Fraser Avenue\, Hope\, British Columbia\, Canada
END:VEVENT
END:VCALENDAR