BEGIN:VCALENDAR
VERSION:2.0
PRODID:Spatie calendar-links
BEGIN:VEVENT
UID:98c9b31cb872f1e4225dee9146c23f67
SUMMARY:THE ROSA PARKS 2021 MOVEMENT - Chris Sky
DTSTAMP;TZID=America/Los_Angeles:20211030T130000
DTSTART;TZID=America/Los_Angeles:20211030T130000
DTEND;TZID=America/Los_Angeles:20211030T160000
LOCATION:17728 64 Ave\, Surrey\, British Columbia\, Canada
END:VEVENT
END:VCALENDAR