BEGIN:VCALENDAR
VERSION:2.0
PRODID:Spatie calendar-links
BEGIN:VEVENT
UID:f5cb00e12bc963102bf926f34fbd11de
SUMMARY:Help Protect the Supply Chain Oct 22nd Vancouver
DTSTAMP;TZID=America/Vancouver:20211022T110000
DTSTART;TZID=America/Vancouver:20211022T110000
DTEND;TZID=America/Vancouver:20211022T150000
LOCATION:800 Burrard St.\, Vancouver\, BC\, Canada
END:VEVENT
END:VCALENDAR