BEGIN:VCALENDAR
VERSION:2.0
PRODID:Spatie calendar-links
BEGIN:VEVENT
UID:43ed3f73f439475cf99e3294256910bd
SUMMARY:WATERFRONT FREEDOM IS NOT NEGOTIABLE
DTSTAMP;TZID=America/Los_Angeles:20211022T110000
DTSTART;TZID=America/Los_Angeles:20211022T110000
DTEND;TZID=America/Los_Angeles:20211022T150000
LOCATION:800 Burrard Street\, Vancouver\, British Columbia\, Canada
END:VEVENT
END:VCALENDAR