BEGIN:VCALENDAR
VERSION:2.0
PRODID:Spatie calendar-links
BEGIN:VEVENT
UID:66b4b9ad2acc5752a14f7caa00c46ad9
SUMMARY:Kelowna Freedom Mega Rally Oct 23rd
DTSTAMP;TZID=America/Vancouver:20211023T120000
DTSTART;TZID=America/Vancouver:20211023T120000
DTEND;TZID=America/Vancouver:20211023T150000
LOCATION:Kelowna\, BC\, Canada
END:VEVENT
END:VCALENDAR