BEGIN:VCALENDAR
VERSION:2.0
PRODID:Spatie calendar-links
BEGIN:VEVENT
UID:a748f5d1f5862051522e4be5e4bafac9
SUMMARY:The Real Chris Sky
DTSTAMP;TZID=America/Los_Angeles:20211029T143000
DTSTART;TZID=America/Los_Angeles:20211029T143000
DTEND;TZID=America/Los_Angeles:20211029T180000
LOCATION:45130 Wolfe Road\, Chilliwack\, British Columbia\, Canada
END:VEVENT
END:VCALENDAR