BEGIN:VCALENDAR
VERSION:2.0
PRODID:Spatie calendar-links
BEGIN:VEVENT
UID:168b7695e234d100f45d096600ea2db3
SUMMARY:World Wide Rally Nov 20th Vancouver
DTSTAMP;TZID=America/Vancouver:20211120T110000
DTSTART;TZID=America/Vancouver:20211120T110000
DTEND;TZID=America/Vancouver:20211120T160000
LOCATION:Vancouver\, BC\, Canada
END:VEVENT
END:VCALENDAR