BEGIN:VCALENDAR
VERSION:2.0
PRODID:Spatie calendar-links
BEGIN:VEVENT
UID:1bbb08f378596a4a9068b2549303fa87
SUMMARY:World Wide Rally Nov 20th Whitby 
DTSTAMP;TZID=America/Toronto:20211120T110000
DTSTART;TZID=America/Toronto:20211120T110000
DTEND;TZID=America/Toronto:20211120T140000
LOCATION:605 Rossland Road East\, Whitby\, Ontario\, Canada
END:VEVENT
END:VCALENDAR