BEGIN:VCALENDAR
VERSION:2.0
PRODID:Spatie calendar-links
BEGIN:VEVENT
UID:8a7493677ede52d5c67223ea87f230a3
SUMMARY:Celebration of Life and Freedom - Hugs Over Masks - High River\, Alberta
DTSTAMP;TZID=America/Edmonton:20210307T120000
DTSTART;TZID=America/Edmonton:20210307T120000
DTEND;TZID=America/Edmonton:20210307T160000
LOCATION:High River\, AB\, Canada
END:VEVENT
END:VCALENDAR