BEGIN:VCALENDAR
VERSION:2.0
PRODID:Spatie calendar-links
BEGIN:VEVENT
UID:e953549cb50342b12be517d6fab731b8
SUMMARY:World Wide Rally Nov 20th London 
DTSTAMP;TZID=America/Toronto:20211120T120000
DTSTART;TZID=America/Toronto:20211120T120000
DTEND;TZID=America/Toronto:20211120T150000
LOCATION:London\, Ontario\, Canada
END:VEVENT
END:VCALENDAR