BEGIN:VCALENDAR
VERSION:2.0
PRODID:Spatie calendar-links
BEGIN:VEVENT
UID:d3b7de7a19a8d920b205d69a9785cff3
SUMMARY:World Wide Rally Nov 20th Kelowna
DTSTAMP;TZID=America/Vancouver:20211120T110000
DTSTART;TZID=America/Vancouver:20211120T110000
DTEND;TZID=America/Vancouver:20211120T140000
LOCATION:Victoria\, BC\, Canada
END:VEVENT
END:VCALENDAR