BEGIN:VCALENDAR
VERSION:2.0
PRODID:Spatie calendar-links
BEGIN:VEVENT
UID:3fd90693e87c4da89546e833df64ad59
SUMMARY:World Wide Rally Nov 20th Prince George
DTSTAMP;TZID=America/Vancouver:20211120T090000
DTSTART;TZID=America/Vancouver:20211120T090000
DTEND;TZID=America/Vancouver:20211120T120000
LOCATION:Prince George\, BC\, Canada
END:VEVENT
END:VCALENDAR