BEGIN:VCALENDAR
VERSION:2.0
PRODID:Spatie calendar-links
BEGIN:VEVENT
UID:bfb9cf98f0fc5a40b1ea8b07a8634b23
SUMMARY:World Wide Rally Nov 20th North Bay
DTSTAMP;TZID=America/Toronto:20211120T120000
DTSTART;TZID=America/Toronto:20211120T120000
DTEND;TZID=America/Toronto:20211120T150000
LOCATION:North Bay\, Ontario\, Canada
END:VEVENT
END:VCALENDAR