BEGIN:VCALENDAR
VERSION:2.0
PRODID:Spatie calendar-links
BEGIN:VEVENT
UID:f0d6bccce14882e4d3b1af89cee49c53
SUMMARY:World Wide Rally Nov 20th St. Johns
DTSTAMP;TZID=America/St_Johns:20211120T110000
DTSTART;TZID=America/St_Johns:20211120T110000
DTEND;TZID=America/St_Johns:20211120T140000
LOCATION:St John's\, Newfoundland and Labrador\, Canada
END:VEVENT
END:VCALENDAR