BEGIN:VCALENDAR
VERSION:2.0
PRODID:Spatie calendar-links
BEGIN:VEVENT
UID:1444574e327e9ee147c7d967cabf68ea
SUMMARY:World Wide Rally Nov 20th Toronto
DTSTAMP;TZID=America/Toronto:20211120T110000
DTSTART;TZID=America/Toronto:20211120T110000
DTEND;TZID=America/Toronto:20211120T140000
LOCATION:Toronto\, Ontario\, Canada
END:VEVENT
END:VCALENDAR