BEGIN:VCALENDAR
VERSION:2.0
PRODID:Spatie calendar-links
BEGIN:VEVENT
UID:46f0f2db678bee71b22cdf21ba544f40
SUMMARY:End Vax Mandates Nov 20th Nanaimo
DTSTAMP;TZID=America/Vancouver:20211120T113000
DTSTART;TZID=America/Vancouver:20211120T113000
DTEND;TZID=America/Vancouver:20211120T140000
LOCATION:Nanaimo\, BC\, Canada
END:VEVENT
END:VCALENDAR