BEGIN:VCALENDAR
VERSION:2.0
PRODID:Spatie calendar-links
BEGIN:VEVENT
UID:a945fa3a05bb1024ea6af48f4083772a
SUMMARY:World Wide Rally Nov 20th Whitehorse
DTSTAMP;TZID=America/Vancouver:20211120T120000
DTSTART;TZID=America/Vancouver:20211120T120000
DTEND;TZID=America/Vancouver:20211120T140000
LOCATION:Whitehorse\, Yukon\, Canada
END:VEVENT
END:VCALENDAR