BEGIN:VCALENDAR
VERSION:2.0
PRODID:Spatie calendar-links
BEGIN:VEVENT
UID:99da259e4608c881b319d410d5bda225
SUMMARY:World Wide Rally Nov 20th Edmonton
DTSTAMP;TZID=America/Edmonton:20211120T110000
DTSTART;TZID=America/Edmonton:20211120T110000
DTEND;TZID=America/Edmonton:20211120T140000
LOCATION:Edmonton\, Alberta\, Canada
END:VEVENT
END:VCALENDAR