BEGIN:VCALENDAR
VERSION:2.0
PRODID:Spatie calendar-links
BEGIN:VEVENT
UID:8c197eb299f60a95f53efc7ab1b8af61
SUMMARY:World Wide Rally Nov 20th Abbotsford
DTSTAMP;TZID=America/Vancouver:20211120T110000
DTSTART;TZID=America/Vancouver:20211120T110000
DTEND;TZID=America/Vancouver:20211120T150000
LOCATION:Abbotsford\, BC\, Canada
END:VEVENT
END:VCALENDAR