BEGIN:VCALENDAR
VERSION:2.0
PRODID:Spatie calendar-links
BEGIN:VEVENT
UID:9d7b359be129e5a3e06f0788308a16e0
SUMMARY:Celebration of Life and Freedom - Hugs Over Masks - Campbell River\, BC
DTSTAMP;TZID=America/Vancouver:20210307T130000
DTSTART;TZID=America/Vancouver:20210307T130000
DTEND;TZID=America/Vancouver:20210307T160000
LOCATION:Campbell River\, BC\, Canada
END:VEVENT
END:VCALENDAR