BEGIN:VCALENDAR
VERSION:2.0
PRODID:Spatie calendar-links
BEGIN:VEVENT
UID:49dbe6c041c366d990c42de5f456d178
SUMMARY:United Veterans Nov 6th Ottawa
DTSTAMP;TZID=America/Toronto:20211106T100000
DTSTART;TZID=America/Toronto:20211106T100000
DTEND;TZID=America/Toronto:20211106T140000
LOCATION:Ottawa\, Ontario\, Canada
END:VEVENT
END:VCALENDAR