BEGIN:VCALENDAR
VERSION:2.0
PRODID:Spatie calendar-links
BEGIN:VEVENT
UID:df5fa7d47d51c82ac5f23768b723d1d4
SUMMARY:FREE TO FLY CONVOY
DTSTAMP;TZID=America/Los_Angeles:20211107T150000
DTSTART;TZID=America/Los_Angeles:20211107T150000
DTEND;TZID=America/Los_Angeles:20211107T170000
LOCATION:3211 Grant McConachie Way\, Richmond\, British Columbia\, Canada
END:VEVENT
END:VCALENDAR