BEGIN:VCALENDAR
VERSION:2.0
PRODID:Spatie calendar-links
BEGIN:VEVENT
UID:df03915841e7c8a405f0697cfef80ede
SUMMARY:United Workers Peaceful Protest
DTSTAMP;TZID=America/Los_Angeles:20211107T120000
DTSTART;TZID=America/Los_Angeles:20211107T120000
DTEND;TZID=America/Los_Angeles:20211107T140000
LOCATION:453 West 12th Avenue\, Vancouver\, British Columbia\, Canada
END:VEVENT
END:VCALENDAR