BEGIN:VCALENDAR
VERSION:2.0
PRODID:Spatie calendar-links
BEGIN:VEVENT
UID:9d5ba380144dd74e34de42c26168122c
SUMMARY:World Wide Rally Nov 20th Victoria
DTSTAMP;TZID=America/Vancouver:20211120T110000
DTSTART;TZID=America/Vancouver:20211120T110000
DTEND;TZID=America/Vancouver:20211120T140000
LOCATION:Victoria\, BC\, Canada
END:VEVENT
END:VCALENDAR