BEGIN:VCALENDAR
VERSION:2.0
PRODID:Spatie calendar-links
BEGIN:VEVENT
UID:b1bbb490adafec3205ebcea96a1303ed
SUMMARY:World Wide Rally Nov 20th Winnipeg
DTSTAMP;TZID=America/Winnipeg:20211120T110000
DTSTART;TZID=America/Winnipeg:20211120T110000
DTEND;TZID=America/Winnipeg:20211120T140000
LOCATION:515 Portage Ave\, Winnipeg\, Manitoba\, Canada
END:VEVENT
END:VCALENDAR