BEGIN:VCALENDAR
VERSION:2.0
PRODID:Spatie calendar-links
BEGIN:VEVENT
UID:289253b0a6e9e4d7d949348b2d09a685
SUMMARY:World Wide Rally Nov 20th Montreal
DTSTAMP;TZID=America/Toronto:20211120T120000
DTSTART;TZID=America/Toronto:20211120T120000
DTEND;TZID=America/Toronto:20211120T150000
LOCATION:Montreal\, Quebec\, Canada
END:VEVENT
END:VCALENDAR