BEGIN:VCALENDAR
VERSION:2.0
PRODID:Spatie calendar-links
BEGIN:VEVENT
UID:f169a8bc6c262714da4052a9cd0b3566
SUMMARY:World Wide Rally Nov 20th Calgary
DTSTAMP;TZID=America/Edmonton:20211120T120000
DTSTART;TZID=America/Edmonton:20211120T120000
DTEND;TZID=America/Edmonton:20211120T150000
LOCATION:Calgary\, Alberta\, Canada
END:VEVENT
END:VCALENDAR