BEGIN:VCALENDAR
VERSION:2.0
PRODID:Spatie calendar-links
BEGIN:VEVENT
UID:7b4aed6197d368af7461c42c5b1bc80f
SUMMARY:World Wide Rally Nov 20th Kamloops
DTSTAMP;TZID=America/Vancouver:20211120T110000
DTSTART;TZID=America/Vancouver:20211120T110000
DTEND;TZID=America/Vancouver:20211120T130000
LOCATION:Kamloops\, BC\, Canada
END:VEVENT
END:VCALENDAR