BEGIN:VCALENDAR
VERSION:2.0
PRODID:Spatie calendar-links
BEGIN:VEVENT
UID:d8432d78b6a38cdbad033f5e54e0885e
SUMMARY:World Wide Rally Nov 20th Charlottetown
DTSTAMP;TZID=America/Toronto:20211120T110000
DTSTART;TZID=America/Toronto:20211120T110000
DTEND;TZID=America/Toronto:20211120T130000
LOCATION:Charlottetown\, Prince Edward Island\, Canada
END:VEVENT
END:VCALENDAR