BEGIN:VCALENDAR
VERSION:2.0
PRODID:Spatie calendar-links
BEGIN:VEVENT
UID:e9016e2fb9f50b0469ecbbfcd7ba4fb9
SUMMARY:Hugs Over Masks Government Transparency Protest
DTSTAMP;TZID=America/Toronto:20210307T120000
DTSTART;TZID=America/Toronto:20210307T120000
DTEND;TZID=America/Toronto:20210307T160000
LOCATION:Hamilton\, ON\, Canada
END:VEVENT
END:VCALENDAR