BEGIN:VCALENDAR
VERSION:2.0
PRODID:Spatie calendar-links
BEGIN:VEVENT
UID:0290c30d77e6e3a76d97906b33dc2678
SUMMARY:Nuremberg Doctors Trial
DTSTAMP;TZID=America/Los_Angeles:20211209T140000
DTSTART;TZID=America/Los_Angeles:20211209T140000
DTEND;TZID=America/Los_Angeles:20211209T170000
LOCATION:501 Belleville St\, Victoria\, British Columbia\, Canada
END:VEVENT
END:VCALENDAR