BEGIN:VCALENDAR
VERSION:2.0
PRODID:Spatie calendar-links
BEGIN:VEVENT
UID:b96ff3a4270a4c9360ceb59e5d4d4021
SUMMARY:Mind Map workshop series: First facet\, Oneness
DTSTAMP;TZID=America/Los_Angeles:20211114T130000
DTSTART;TZID=America/Los_Angeles:20211114T130000
DTEND;TZID=America/Los_Angeles:20211114T170000
LOCATION:3650 Douglas Rd\, Burnaby\, BC\, Canada
END:VEVENT
END:VCALENDAR