BEGIN:VCALENDAR
VERSION:2.0
PRODID:Spatie calendar-links
BEGIN:VEVENT
UID:a8df62d429173e3f82499d9f1c33dfb4
SUMMARY:World Wide Rally Nov 20th Vernon
DTSTAMP;TZID=America/Vancouver:20211120T120000
DTSTART;TZID=America/Vancouver:20211120T120000
DTEND;TZID=America/Vancouver:20211120T143000
LOCATION:Vernon\, BC\, Canada
END:VEVENT
END:VCALENDAR