BEGIN:VCALENDAR
VERSION:2.0
PRODID:Spatie calendar-links
BEGIN:VEVENT
UID:ca3b1cd6e210ff1c7e3dfcd8e231ec93
SUMMARY:World Wide Rally Nov 20th Fredericton
DTSTAMP;TZID=America/Toronto:20211120T130000
DTSTART;TZID=America/Toronto:20211120T130000
DTEND;TZID=America/Toronto:20211120T150000
LOCATION:Fredericton\, New Brunswick\, Canada
END:VEVENT
END:VCALENDAR