BEGIN:VCALENDAR
VERSION:2.0
PRODID:Spatie calendar-links
BEGIN:VEVENT
UID:e347a90b6f04fd6eda9508831cc0efa2
SUMMARY:World Wide Rally Nov 20th Vancouver
DTSTAMP;TZID=America/Los_Angeles:20211120T120000
DTSTART;TZID=America/Los_Angeles:20211120T120000
DTEND;TZID=America/Los_Angeles:20211120T170000
LOCATION:750 Hornby St\, Vancouver\, British Columbia\, Canada
END:VEVENT
END:VCALENDAR