BEGIN:VCALENDAR
VERSION:2.0
PRODID:Spatie calendar-links
BEGIN:VEVENT
UID:3a46e59bcc62ccc289bf9fd7c7e46a86
SUMMARY:World Wide Rally Nov 20th Quesnel
DTSTAMP;TZID=America/Vancouver:20211120T120000
DTSTART;TZID=America/Vancouver:20211120T120000
DTEND;TZID=America/Vancouver:20211120T160000
LOCATION:Quesnel\, BC\, Canada
END:VEVENT
END:VCALENDAR