BEGIN:VCALENDAR
VERSION:2.0
PRODID:Spatie calendar-links
BEGIN:VEVENT
UID:3569dd2baf77fc2978600535c150f748
SUMMARY:World Wide Rally Nov 20th Halifax
DTSTAMP;TZID=America/Toronto:20211120T140000
DTSTART;TZID=America/Toronto:20211120T140000
DTEND;TZID=America/Toronto:20211120T160000
LOCATION:1170 Hollis St.\, Halifax\, Nova Scotia\, Canada
END:VEVENT
END:VCALENDAR