BEGIN:VCALENDAR
VERSION:2.0
PRODID:Spatie calendar-links
BEGIN:VEVENT
UID:7100b140123c7164ba8103aa9929c253
SUMMARY:World Wide Rally Nov 20th Revelstoke
DTSTAMP;TZID=America/Vancouver:20211120T130000
DTSTART;TZID=America/Vancouver:20211120T130000
DTEND;TZID=America/Vancouver:20211120T160000
LOCATION:Revelstoke\, BC\, Canada
END:VEVENT
END:VCALENDAR