BEGIN:VCALENDAR
VERSION:2.0
PRODID:Spatie calendar-links
BEGIN:VEVENT
UID:a2a32a1ee30ce302c6e01fdc79a9aa0a
SUMMARY:2021 EZRA LEADERSHIP CONFERENCE
DTSTAMP;TZID=America/Los_Angeles:20211127T130000
DTSTART;TZID=America/Los_Angeles:20211127T130000
DTEND;TZID=America/Los_Angeles:20211127T180000
LOCATION:19040 Lougheed Hwy\, Pitt Meadows\, British Columbia\, Canada
END:VEVENT
END:VCALENDAR