BEGIN:VCALENDAR
VERSION:2.0
PRODID:Spatie calendar-links
BEGIN:VEVENT
UID:33693c6daf040da9d533b68479c31e8c
SUMMARY:S.O.S. from AUSTRALIA
DTSTAMP;TZID=America/Los_Angeles:20211204T120000
DTSTART;TZID=America/Los_Angeles:20211204T120000
DTEND;TZID=America/Los_Angeles:20211204T150000
LOCATION:2050 1075 W Georgia Street\, Vancouver\, British Columbia\, Canada
END:VEVENT
END:VCALENDAR