BEGIN:VCALENDAR
VERSION:2.0
PRODID:Spatie calendar-links
BEGIN:VEVENT
UID:764b1fb9d73fcb6f1dd442b8752f5da2
SUMMARY:BC Libertarian Christmas Party
DTSTAMP;TZID=America/Vancouver:20211218T190000
DTSTART;TZID=America/Vancouver:20211218T190000
DTEND;TZID=America/Vancouver:20211218T230000
LOCATION:Port Coquitlam\, BC\, Canada
END:VEVENT
END:VCALENDAR