BEGIN:VCALENDAR
VERSION:2.0
PRODID:Spatie calendar-links
BEGIN:VEVENT
UID:eee2c95db3c2d8a21cc7b0c84673539c
SUMMARY:Standing up against v@ccines for children.
DTSTAMP;TZID=America/Los_Angeles:20211128T120000
DTSTART;TZID=America/Los_Angeles:20211128T120000
DTEND;TZID=America/Los_Angeles:20211128T160000
LOCATION:147 E 14th St E\, North Vancouver\, British Columbia\, Canada
END:VEVENT
END:VCALENDAR