BEGIN:VCALENDAR
VERSION:2.0
PRODID:Spatie calendar-links
BEGIN:VEVENT
UID:ba376fd5c656fb25326f9e9495dbc205
SUMMARY:Freedom Worship Rally
DTSTAMP;TZID=America/Los_Angeles:20211128T110000
DTSTART;TZID=America/Los_Angeles:20211128T110000
DTEND;TZID=America/Los_Angeles:20211128T130000
LOCATION:9744 176th St\, Surrey\, British Columbia\, Canada
END:VEVENT
END:VCALENDAR