BEGIN:VCALENDAR
VERSION:2.0
PRODID:Spatie calendar-links
BEGIN:VEVENT
UID:957227c94a76b51dd01a1ae8552be825
SUMMARY:World Wide Rally January 22nd & 23rd
DTSTAMP;TZID=America/Vancouver:20220122T120000
DTSTART;TZID=America/Vancouver:20220122T120000
DTEND;TZID=America/Vancouver:20220123T160000
END:VEVENT
END:VCALENDAR