BEGIN:VCALENDAR
VERSION:2.0
PRODID:Spatie calendar-links
BEGIN:VEVENT
UID:b3155e737a125e9492c95a7704e2d838
SUMMARY:Nuremberg Dr's Convoy Dec 9th Vancouver Island
DTSTAMP;TZID=America/Vancouver:20211209T093000
DTSTART;TZID=America/Vancouver:20211209T093000
DTEND;TZID=America/Vancouver:20211209T180000
LOCATION:Vancouver Island\, BC\, Canada
END:VEVENT
END:VCALENDAR