BEGIN:VCALENDAR
VERSION:2.0
PRODID:Spatie calendar-links
BEGIN:VEVENT
UID:f2ec559fe64a408a3d85c0d328b55bf2
SUMMARY:Ezra Wellness Leadership Conference
DTSTAMP;TZID=America/Vancouver:20211210T163000
DTSTART;TZID=America/Vancouver:20211210T163000
DTEND;TZID=America/Vancouver:20211210T190000
LOCATION:Nanaimo\, BC\, Canada
END:VEVENT
END:VCALENDAR