BEGIN:VCALENDAR
VERSION:2.0
PRODID:Spatie calendar-links
BEGIN:VEVENT
UID:4854ee4a93b2d71e6046f3ce51b636a7
SUMMARY:The Event The time is now.
DTSTAMP;TZID=America/Vancouver:20211217T120000
DTSTART;TZID=America/Vancouver:20211217T120000
DTEND;TZID=America/Vancouver:20211221T160000
LOCATION:Canada
END:VEVENT
END:VCALENDAR