BEGIN:VCALENDAR
VERSION:2.0
PRODID:Spatie calendar-links
BEGIN:VEVENT
UID:da048e4e15a83a3b6c055893818ee762
SUMMARY:Freedom Family Grey-Bruce-Owen Sound Meet & Greet #2 (Parking lot\, by the bridge that crosses to the play area\, for meet up)
DTSTAMP;TZID=America/Vancouver:20210310T130000
DTSTART;TZID=America/Vancouver:20210310T130000
DTEND;TZID=America/Vancouver:20210310T150000
END:VEVENT
END:VCALENDAR