BEGIN:VCALENDAR
VERSION:2.0
PRODID:Spatie calendar-links
BEGIN:VEVENT
UID:f620096e323ecbdb1e18c624d0c9ec73
SUMMARY:A Celebration of Love & Light Music Festival Dec 18th Vancouver Art Gallery
DTSTAMP;TZID=America/Vancouver:20211218T180000
DTSTART;TZID=America/Vancouver:20211218T180000
DTEND;TZID=America/Vancouver:20211218T210000
LOCATION:Vancouver\, BC\, Canada
END:VEVENT
END:VCALENDAR