BEGIN:VCALENDAR
VERSION:2.0
PRODID:Spatie calendar-links
BEGIN:VEVENT
UID:b8da132dccd2de538ea510d62e3ac36e
SUMMARY:Stand Firm for Dr. Mel Dec 12th North Vancouver 
DTSTAMP;TZID=America/Vancouver:20211212T100000
DTSTART;TZID=America/Vancouver:20211212T100000
DTEND;TZID=America/Vancouver:20211212T130000
LOCATION:North Vancouver\, BC\, Canada
END:VEVENT
END:VCALENDAR